BEGIN:VCALENDAR
VERSION:2.0
CALSCALE:GREGORIAN
PRODID:adamgibbons/ics
METHOD:PUBLISH
X-PUBLISHED-TTL:PT1H
BEGIN:VEVENT
UID:2282@bonn.jetzt
SUMMARY:Teckids-Campdays April 2026
DTSTAMP:20260422T001240Z
DTSTART:20260425T083000Z
DTEND:20260426T150000Z
URL:https://bonn.jetzt/event/teckids-campdays-april-2026
GEO:50.6982;7.14513
LOCATION:Makerspace Bonn - 18\, Kennedyallee\, Plittersdorf\, Bad Godesberg
	\, Bonn\, Nordrhein-Westfalen\, 53175\, Deutschland
STATUS:CONFIRMED
CATEGORIES:Barcamp,Coding,digitale Souveränität,Jugendliche,Kinder,Teckids
END:VEVENT
BEGIN:VEVENT
UID:2248@bonn.jetzt
SUMMARY:Business Forum Siegburg 2026  - Digital.Sicher.Souverän
DTSTAMP:20260422T001240Z
DTSTART:20260626T070000Z
DTEND:20260626T130000Z
URL:https://bonn.jetzt/event/business-forum-siegburg-2026-digitalsichersouv
	eran
LOCATION:Rathaus Siegburg\, Ratsaal - Nogenter Platz 10\, 53721 Siegburg
STATUS:CONFIRMED
CATEGORIES:Business,digitale Souveränität,Siegburg
END:VEVENT
END:VCALENDAR
